BEGIN:VCALENDAR
VERSION:2.0
PRODID:-//Village of Norwalk - ECPv6.15.17.1//NONSGML v1.0//EN
CALSCALE:GREGORIAN
METHOD:PUBLISH
X-WR-CALNAME:Village of Norwalk
X-ORIGINAL-URL:https://villageofnorwalk.com
X-WR-CALDESC:Events for Village of Norwalk
REFRESH-INTERVAL;VALUE=DURATION:PT1H
X-Robots-Tag:noindex
X-PUBLISHED-TTL:PT1H
BEGIN:VTIMEZONE
TZID:America/Chicago
BEGIN:DAYLIGHT
TZOFFSETFROM:-0600
TZOFFSETTO:-0500
TZNAME:CDT
DTSTART:20200308T080000
END:DAYLIGHT
BEGIN:STANDARD
TZOFFSETFROM:-0500
TZOFFSETTO:-0600
TZNAME:CST
DTSTART:20201101T070000
END:STANDARD
BEGIN:DAYLIGHT
TZOFFSETFROM:-0600
TZOFFSETTO:-0500
TZNAME:CDT
DTSTART:20210314T080000
END:DAYLIGHT
BEGIN:STANDARD
TZOFFSETFROM:-0500
TZOFFSETTO:-0600
TZNAME:CST
DTSTART:20211107T070000
END:STANDARD
BEGIN:DAYLIGHT
TZOFFSETFROM:-0600
TZOFFSETTO:-0500
TZNAME:CDT
DTSTART:20220313T080000
END:DAYLIGHT
BEGIN:STANDARD
TZOFFSETFROM:-0500
TZOFFSETTO:-0600
TZNAME:CST
DTSTART:20221106T070000
END:STANDARD
END:VTIMEZONE
BEGIN:VEVENT
DTSTART;TZID=America/Chicago:20211026T100000
DTEND;TZID=America/Chicago:20211026T110000
DTSTAMP:20260424T173330
CREATED:20210727T190349Z
LAST-MODIFIED:20210727T191157Z
UID:10000513-1635242400-1635246000@villageofnorwalk.com
SUMMARY:Second Harvest Mobile Pantry
DESCRIPTION:
URL:https://villageofnorwalk.com/event/second-harvest-mobile-pantry-2/2021-10-26/
CATEGORIES:Events
END:VEVENT
BEGIN:VEVENT
DTSTART;TZID=America/Chicago:20211031T160000
DTEND;TZID=America/Chicago:20211031T190000
DTSTAMP:20260424T173330
CREATED:20210922T180650Z
LAST-MODIFIED:20211015T175328Z
UID:10000532-1635696000-1635706800@villageofnorwalk.com
SUMMARY:Trick or Treating
DESCRIPTION:
URL:https://villageofnorwalk.com/event/trick-or-treating/
CATEGORIES:Events
END:VEVENT
BEGIN:VEVENT
DTSTART;TZID=America/Chicago:20211031T190000
DTEND;TZID=America/Chicago:20211031T200000
DTSTAMP:20260424T173330
CREATED:20211015T175451Z
LAST-MODIFIED:20211015T175451Z
UID:10000534-1635706800-1635710400@villageofnorwalk.com
SUMMARY:Lion's Club Halloween costume party
DESCRIPTION:at Norwalk Village Hall/shop – 208 S Church St.
URL:https://villageofnorwalk.com/event/lions-club-halloween-costume-party/
CATEGORIES:Events
END:VEVENT
END:VCALENDAR