BEGIN:VCALENDAR
VERSION:2.0
PRODID:-//Village of Norwalk - ECPv6.15.17.1//NONSGML v1.0//EN
CALSCALE:GREGORIAN
METHOD:PUBLISH
X-ORIGINAL-URL:https://villageofnorwalk.com
X-WR-CALDESC:Events for Village of Norwalk
REFRESH-INTERVAL;VALUE=DURATION:PT1H
X-Robots-Tag:noindex
X-PUBLISHED-TTL:PT1H
BEGIN:VTIMEZONE
TZID:America/Chicago
BEGIN:DAYLIGHT
TZOFFSETFROM:-0600
TZOFFSETTO:-0500
TZNAME:CDT
DTSTART:20220313T080000
END:DAYLIGHT
BEGIN:STANDARD
TZOFFSETFROM:-0500
TZOFFSETTO:-0600
TZNAME:CST
DTSTART:20221106T070000
END:STANDARD
BEGIN:DAYLIGHT
TZOFFSETFROM:-0600
TZOFFSETTO:-0500
TZNAME:CDT
DTSTART:20230312T080000
END:DAYLIGHT
BEGIN:STANDARD
TZOFFSETFROM:-0500
TZOFFSETTO:-0600
TZNAME:CST
DTSTART:20231105T070000
END:STANDARD
BEGIN:DAYLIGHT
TZOFFSETFROM:-0600
TZOFFSETTO:-0500
TZNAME:CDT
DTSTART:20240310T080000
END:DAYLIGHT
BEGIN:STANDARD
TZOFFSETFROM:-0500
TZOFFSETTO:-0600
TZNAME:CST
DTSTART:20241103T070000
END:STANDARD
BEGIN:DAYLIGHT
TZOFFSETFROM:-0600
TZOFFSETTO:-0500
TZNAME:CDT
DTSTART:20250309T080000
END:DAYLIGHT
BEGIN:STANDARD
TZOFFSETFROM:-0500
TZOFFSETTO:-0600
TZNAME:CST
DTSTART:20251102T070000
END:STANDARD
BEGIN:DAYLIGHT
TZOFFSETFROM:-0600
TZOFFSETTO:-0500
TZNAME:CDT
DTSTART:20260308T080000
END:DAYLIGHT
BEGIN:STANDARD
TZOFFSETFROM:-0500
TZOFFSETTO:-0600
TZNAME:CST
DTSTART:20261101T070000
END:STANDARD
END:VTIMEZONE
BEGIN:VEVENT
DTSTART;VALUE=DATE:20230531
DTEND;VALUE=DATE:20230601
DTSTAMP:20260425T172523
CREATED:20210610T185345Z
LAST-MODIFIED:20210610T185345Z
UID:10000508-1685491200-1685577599@villageofnorwalk.com
SUMMARY:Office Closed
DESCRIPTION:
URL:https://villageofnorwalk.com/event/office-closed-24/2023-05-31/
CATEGORIES:Office Closed
END:VEVENT
BEGIN:VEVENT
DTSTART;VALUE=DATE:20230607
DTEND;VALUE=DATE:20230608
DTSTAMP:20260425T172523
CREATED:20210610T185345Z
LAST-MODIFIED:20210610T185345Z
UID:10000509-1686096000-1686182399@villageofnorwalk.com
SUMMARY:Office Closed
DESCRIPTION:
URL:https://villageofnorwalk.com/event/office-closed-24/2023-06-07/
CATEGORIES:Office Closed
END:VEVENT
BEGIN:VEVENT
DTSTART;VALUE=DATE:20230630
DTEND;VALUE=DATE:20230705
DTSTAMP:20260425T172523
CREATED:20230614T200630Z
LAST-MODIFIED:20230614T200630Z
UID:10000613-1688083200-1688515199@villageofnorwalk.com
SUMMARY:Office Closed
DESCRIPTION:
URL:https://villageofnorwalk.com/event/office-closed-26/
CATEGORIES:Office Closed
END:VEVENT
BEGIN:VEVENT
DTSTART;VALUE=DATE:20230719
DTEND;VALUE=DATE:20230724
DTSTAMP:20260425T172523
CREATED:20230614T200807Z
LAST-MODIFIED:20230614T200807Z
UID:10000614-1689724800-1690156799@villageofnorwalk.com
SUMMARY:Office Closed
DESCRIPTION:
URL:https://villageofnorwalk.com/event/office-closed-28/
CATEGORIES:Office Closed
END:VEVENT
BEGIN:VEVENT
DTSTART;TZID=America/Chicago:20230915T120000
DTEND;TZID=America/Chicago:20240515T120000
DTSTAMP:20260425T172523
CREATED:20230727T145718Z
LAST-MODIFIED:20230727T145718Z
UID:10000615-1694779200-1715774400@villageofnorwalk.com
SUMMARY:Campground Closing
DESCRIPTION:September 15\, 2023 to do renovations
URL:https://villageofnorwalk.com/event/campground-closing/
CATEGORIES:Office Closed
END:VEVENT
BEGIN:VEVENT
DTSTART;VALUE=DATE:20240902
DTEND;VALUE=DATE:20240903
DTSTAMP:20260425T172523
CREATED:20240821T160438Z
LAST-MODIFIED:20240821T160438Z
UID:10000718-1725235200-1725321599@villageofnorwalk.com
SUMMARY:Village Office Closed
DESCRIPTION:
URL:https://villageofnorwalk.com/event/village-office-closed-8/
CATEGORIES:Office Closed
END:VEVENT
BEGIN:VEVENT
DTSTART;VALUE=DATE:20241128
DTEND;VALUE=DATE:20241201
DTSTAMP:20260425T172523
CREATED:20240821T160621Z
LAST-MODIFIED:20240821T160707Z
UID:10000719-1732752000-1733011199@villageofnorwalk.com
SUMMARY:Village Office Closed
DESCRIPTION:
URL:https://villageofnorwalk.com/event/village-office-closed-9/
CATEGORIES:Office Closed
END:VEVENT
BEGIN:VEVENT
DTSTART;TZID=America/Chicago:20241224T113000
DTEND;TZID=America/Chicago:20241224T235900
DTSTAMP:20260425T172523
CREATED:20240821T161146Z
LAST-MODIFIED:20240821T161547Z
UID:10000720-1735039800-1735084740@villageofnorwalk.com
SUMMARY:Village Office Closed-Holiday
DESCRIPTION:
URL:https://villageofnorwalk.com/event/village-office-closed-holiday/
CATEGORIES:Office Closed
END:VEVENT
BEGIN:VEVENT
DTSTART;VALUE=DATE:20241225
DTEND;VALUE=DATE:20241226
DTSTAMP:20260425T172523
CREATED:20240821T161719Z
LAST-MODIFIED:20240821T161719Z
UID:10000722-1735084800-1735171199@villageofnorwalk.com
SUMMARY:Village Office Closed - Holiday
DESCRIPTION:
URL:https://villageofnorwalk.com/event/village-office-closed-holiday-2/
CATEGORIES:Office Closed
END:VEVENT
BEGIN:VEVENT
DTSTART;VALUE=DATE:20250101
DTEND;VALUE=DATE:20250102
DTSTAMP:20260425T172523
CREATED:20240821T161836Z
LAST-MODIFIED:20240821T161836Z
UID:10000723-1735689600-1735775999@villageofnorwalk.com
SUMMARY:Village Office Closed - Holiday
DESCRIPTION:
URL:https://villageofnorwalk.com/event/village-office-closed-holiday-3/
CATEGORIES:Office Closed
END:VEVENT
BEGIN:VEVENT
DTSTART;VALUE=DATE:20250526
DTEND;VALUE=DATE:20250527
DTSTAMP:20260425T172523
CREATED:20240821T162119Z
LAST-MODIFIED:20240821T162119Z
UID:10000724-1748217600-1748303999@villageofnorwalk.com
SUMMARY:Village Office closed - Memorial Day
DESCRIPTION:
URL:https://villageofnorwalk.com/event/village-office-closed-memorial-day/
CATEGORIES:Office Closed
END:VEVENT
BEGIN:VEVENT
DTSTART;VALUE=DATE:20250704
DTEND;VALUE=DATE:20250705
DTSTAMP:20260425T172523
CREATED:20240821T162212Z
LAST-MODIFIED:20240821T162212Z
UID:10000725-1751587200-1751673599@villageofnorwalk.com
SUMMARY:Village Office Closed - July 4th
DESCRIPTION:
URL:https://villageofnorwalk.com/event/village-office-closed-july-4th/
CATEGORIES:Office Closed
END:VEVENT
BEGIN:VEVENT
DTSTART;VALUE=DATE:20250901
DTEND;VALUE=DATE:20250902
DTSTAMP:20260425T172523
CREATED:20240821T162301Z
LAST-MODIFIED:20240821T162301Z
UID:10000726-1756684800-1756771199@villageofnorwalk.com
SUMMARY:Village Office Closed - Labor Day
DESCRIPTION:
URL:https://villageofnorwalk.com/event/village-office-closed-labor-day/
CATEGORIES:Office Closed
END:VEVENT
BEGIN:VEVENT
DTSTART;VALUE=DATE:20251127
DTEND;VALUE=DATE:20251130
DTSTAMP:20260425T172523
CREATED:20240821T162432Z
LAST-MODIFIED:20240821T162432Z
UID:10000727-1764201600-1764460799@villageofnorwalk.com
SUMMARY:Village Office Closed - Thanksgiving
DESCRIPTION:
URL:https://villageofnorwalk.com/event/village-office-closed-thanksgiving/
CATEGORIES:Office Closed
END:VEVENT
BEGIN:VEVENT
DTSTART;VALUE=DATE:20251225
DTEND;VALUE=DATE:20251226
DTSTAMP:20260425T172523
CREATED:20240821T162614Z
LAST-MODIFIED:20240821T162614Z
UID:10000728-1766620800-1766707199@villageofnorwalk.com
SUMMARY:Village Office Closed - Christmas
DESCRIPTION:
URL:https://villageofnorwalk.com/event/village-office-closed-christmas/
CATEGORIES:Office Closed
END:VEVENT
END:VCALENDAR