BEGIN:VCALENDAR
VERSION:2.0
PRODID:-//Village of Norwalk - ECPv6.15.17.1//NONSGML v1.0//EN
CALSCALE:GREGORIAN
METHOD:PUBLISH
X-WR-CALNAME:Village of Norwalk
X-ORIGINAL-URL:https://villageofnorwalk.com
X-WR-CALDESC:Events for Village of Norwalk
REFRESH-INTERVAL;VALUE=DURATION:PT1H
X-Robots-Tag:noindex
X-PUBLISHED-TTL:PT1H
BEGIN:VTIMEZONE
TZID:America/Chicago
BEGIN:DAYLIGHT
TZOFFSETFROM:-0600
TZOFFSETTO:-0500
TZNAME:CDT
DTSTART:20160313T080000
END:DAYLIGHT
BEGIN:STANDARD
TZOFFSETFROM:-0500
TZOFFSETTO:-0600
TZNAME:CST
DTSTART:20161106T070000
END:STANDARD
BEGIN:DAYLIGHT
TZOFFSETFROM:-0600
TZOFFSETTO:-0500
TZNAME:CDT
DTSTART:20170312T080000
END:DAYLIGHT
BEGIN:STANDARD
TZOFFSETFROM:-0500
TZOFFSETTO:-0600
TZNAME:CST
DTSTART:20171105T070000
END:STANDARD
BEGIN:DAYLIGHT
TZOFFSETFROM:-0600
TZOFFSETTO:-0500
TZNAME:CDT
DTSTART:20180311T080000
END:DAYLIGHT
BEGIN:STANDARD
TZOFFSETFROM:-0500
TZOFFSETTO:-0600
TZNAME:CST
DTSTART:20181104T070000
END:STANDARD
BEGIN:DAYLIGHT
TZOFFSETFROM:-0600
TZOFFSETTO:-0500
TZNAME:CDT
DTSTART:20190310T080000
END:DAYLIGHT
BEGIN:STANDARD
TZOFFSETFROM:-0500
TZOFFSETTO:-0600
TZNAME:CST
DTSTART:20191103T070000
END:STANDARD
END:VTIMEZONE
BEGIN:VEVENT
DTSTART;VALUE=DATE:20181122
DTEND;VALUE=DATE:20181123
DTSTAMP:20260422T202801
CREATED:20190216T202759Z
LAST-MODIFIED:20190216T202759Z
UID:10000162-1542844800-1542931199@villageofnorwalk.com
SUMMARY:Village Office Closed
DESCRIPTION:
URL:https://villageofnorwalk.com/event/village-office-closed-5/
CATEGORIES:Office Closed
END:VEVENT
BEGIN:VEVENT
DTSTART;VALUE=DATE:20180528
DTEND;VALUE=DATE:20180529
DTSTAMP:20260422T202801
CREATED:20190216T202735Z
LAST-MODIFIED:20190216T202735Z
UID:10000161-1527465600-1527551999@villageofnorwalk.com
SUMMARY:Village Office Closed
DESCRIPTION:
URL:https://villageofnorwalk.com/event/village-office-closed-4/
CATEGORIES:Office Closed
END:VEVENT
BEGIN:VEVENT
DTSTART;VALUE=DATE:20180101
DTEND;VALUE=DATE:20180102
DTSTAMP:20260422T202801
CREATED:20190216T202709Z
LAST-MODIFIED:20190216T202709Z
UID:10000160-1514764800-1514851199@villageofnorwalk.com
SUMMARY:Village Office Closed
DESCRIPTION:
URL:https://villageofnorwalk.com/event/village-office-closed-3/
CATEGORIES:Office Closed
END:VEVENT
BEGIN:VEVENT
DTSTART;VALUE=DATE:20171225
DTEND;VALUE=DATE:20171226
DTSTAMP:20260422T202801
CREATED:20190216T202644Z
LAST-MODIFIED:20190216T202644Z
UID:10000159-1514160000-1514246399@villageofnorwalk.com
SUMMARY:Village Office Closed
DESCRIPTION:For Christmas
URL:https://villageofnorwalk.com/event/village-office-closed-2/
CATEGORIES:Office Closed
END:VEVENT
BEGIN:VEVENT
DTSTART;VALUE=DATE:20171123
DTEND;VALUE=DATE:20171124
DTSTAMP:20260422T202801
CREATED:20190216T202605Z
LAST-MODIFIED:20190216T202619Z
UID:10000158-1511395200-1511481599@villageofnorwalk.com
SUMMARY:Village Office Closed
DESCRIPTION:Closed for Holiday
URL:https://villageofnorwalk.com/event/village-office-closed/
CATEGORIES:Office Closed
END:VEVENT
END:VCALENDAR